BEGIN:VCALENDAR
VERSION:2.0
PRODID:-//Peer-Led Team Learning International Society - ECPv6.15.20//NONSGML v1.0//EN
CALSCALE:GREGORIAN
METHOD:PUBLISH
X-ORIGINAL-URL:https://pltlis.org
X-WR-CALDESC:Events for Peer-Led Team Learning International Society
REFRESH-INTERVAL;VALUE=DURATION:PT1H
X-Robots-Tag:noindex
X-PUBLISHED-TTL:PT1H
BEGIN:VTIMEZONE
TZID:America/New_York
BEGIN:DAYLIGHT
TZOFFSETFROM:-0500
TZOFFSETTO:-0400
TZNAME:EDT
DTSTART:20230312T070000
END:DAYLIGHT
BEGIN:STANDARD
TZOFFSETFROM:-0400
TZOFFSETTO:-0500
TZNAME:EST
DTSTART:20231105T060000
END:STANDARD
BEGIN:DAYLIGHT
TZOFFSETFROM:-0500
TZOFFSETTO:-0400
TZNAME:EDT
DTSTART:20240310T070000
END:DAYLIGHT
BEGIN:STANDARD
TZOFFSETFROM:-0400
TZOFFSETTO:-0500
TZNAME:EST
DTSTART:20241103T060000
END:STANDARD
BEGIN:DAYLIGHT
TZOFFSETFROM:-0500
TZOFFSETTO:-0400
TZNAME:EDT
DTSTART:20250309T070000
END:DAYLIGHT
BEGIN:STANDARD
TZOFFSETFROM:-0400
TZOFFSETTO:-0500
TZNAME:EST
DTSTART:20251102T060000
END:STANDARD
BEGIN:DAYLIGHT
TZOFFSETFROM:-0500
TZOFFSETTO:-0400
TZNAME:EDT
DTSTART:20260308T070000
END:DAYLIGHT
BEGIN:STANDARD
TZOFFSETFROM:-0400
TZOFFSETTO:-0500
TZNAME:EST
DTSTART:20261101T060000
END:STANDARD
END:VTIMEZONE
BEGIN:VEVENT
DTSTART;TZID=America/New_York:20241129T080000
DTEND;TZID=America/New_York:20250529T170000
DTSTAMP:20260423T174839
CREATED:20241129T235120Z
LAST-MODIFIED:20241130T025631Z
UID:15918-1732867200-1748538000@pltlis.org
SUMMARY:PLTLIS 2025 Conference
DESCRIPTION:Join us Wednesday\, May 28 through Saturday\, May 31\, 2025 \nHosted by California State University Dominguez Hills \nLos Angeles\, California \nOpportunities and Challenges in the Age of Technology Enhanced Education
URL:https://pltlis.org/event/pltlis-2025-conference/
END:VEVENT
BEGIN:VEVENT
DTSTART;TZID=America/New_York:20240529T080000
DTEND;TZID=America/New_York:20240601T170000
DTSTAMP:20260423T174839
CREATED:20240108T233440Z
LAST-MODIFIED:20240108T235037Z
UID:15070-1716969600-1717261200@pltlis.org
SUMMARY:PLTLIS Twelfth Annual Conference 2024
DESCRIPTION:
URL:https://pltlis.org/event/pltlis-twelfth-annual-conference-2024/
LOCATION:University of Rochester Rochester\, New York\, NY\, United States
END:VEVENT
END:VCALENDAR